BEGIN:VCALENDAR
VERSION:2.0
PRODID:-//BicinPuglia//BicinPuglia//IT
CALSCALE:GREGORIAN
METHOD:PUBLISH
BEGIN:VEVENT
UID:evento-355@bicinpuglia.it
DTSTAMP:20260424T090432Z
DTSTART:20260426T080000
DTEND:20260426T130000
SUMMARY:Xc Macurano Memorial Andrea Torsello
DESCRIPTION:https://www.bicinpuglia.it/eventi/view?id=355
LOCATION:Alessano
URL:https://www.bicinpuglia.it/eventi/view?id=355
END:VEVENT
END:VCALENDAR
