BEGIN:VCALENDAR
VERSION:2.0
PRODID:-//BicinPuglia//BicinPuglia//IT
CALSCALE:GREGORIAN
METHOD:PUBLISH
BEGIN:VEVENT
UID:evento-356@bicinpuglia.it
DTSTAMP:20260424T072556Z
DTSTART:20260501T080000
DTEND:20260501T130000
SUMMARY:Gran Premio Xc Città Del Mito 
DESCRIPTION:https://www.bicinpuglia.it/eventi/view?id=356
LOCATION:Castellaneta
URL:https://www.bicinpuglia.it/eventi/view?id=356
END:VEVENT
END:VCALENDAR
